BEGIN:VCALENDAR
VERSION:2.0
PRODID:-//Derbyshire Advanced Motorcyclists - ECPv6.15.18//NONSGML v1.0//EN
CALSCALE:GREGORIAN
METHOD:PUBLISH
X-WR-CALNAME:Derbyshire Advanced Motorcyclists
X-ORIGINAL-URL:https://derbyam.org.uk
X-WR-CALDESC:Events for Derbyshire Advanced Motorcyclists
REFRESH-INTERVAL;VALUE=DURATION:PT1H
X-Robots-Tag:noindex
X-PUBLISHED-TTL:PT1H
BEGIN:VTIMEZONE
TZID:Europe/London
BEGIN:DAYLIGHT
TZOFFSETFROM:+0000
TZOFFSETTO:+0100
TZNAME:BST
DTSTART:20250330T010000
END:DAYLIGHT
BEGIN:STANDARD
TZOFFSETFROM:+0100
TZOFFSETTO:+0000
TZNAME:GMT
DTSTART:20251026T010000
END:STANDARD
BEGIN:DAYLIGHT
TZOFFSETFROM:+0000
TZOFFSETTO:+0100
TZNAME:BST
DTSTART:20260329T010000
END:DAYLIGHT
BEGIN:STANDARD
TZOFFSETFROM:+0100
TZOFFSETTO:+0000
TZNAME:GMT
DTSTART:20261025T010000
END:STANDARD
BEGIN:DAYLIGHT
TZOFFSETFROM:+0000
TZOFFSETTO:+0100
TZNAME:BST
DTSTART:20270328T010000
END:DAYLIGHT
BEGIN:STANDARD
TZOFFSETFROM:+0100
TZOFFSETTO:+0000
TZNAME:GMT
DTSTART:20271031T010000
END:STANDARD
END:VTIMEZONE
BEGIN:VEVENT
DTSTART;TZID=Europe/London:20261010T080000
DTEND;TZID=Europe/London:20261010T170000
DTSTAMP:20260420T113205
CREATED:20260130T140621Z
LAST-MODIFIED:20260130T140621Z
UID:4064-1791619200-1791651600@derbyam.org.uk
SUMMARY:Ride out - details tbc
DESCRIPTION:
URL:https://derbyam.org.uk/event/ride-out-details-tbc/
LOCATION:Derbyshire
CATEGORIES:Ride-out
END:VEVENT
BEGIN:VEVENT
DTSTART;TZID=Europe/London:20261025T080000
DTEND;TZID=Europe/London:20261025T170000
DTSTAMP:20260420T113205
CREATED:20260130T141318Z
LAST-MODIFIED:20260130T141318Z
UID:4066-1792915200-1792947600@derbyam.org.uk
SUMMARY:Ride out to The Station Cafeteria\, Chasewater
DESCRIPTION:Details will be emailed to the membership. \nThis ride is governed by IAM ride rules\, and the drop-off system will be used.
URL:https://derbyam.org.uk/event/ride-out-to-the-station-cafeteria-chasewater/
LOCATION:The Station Cafeteria\, Miners Way Chasewater Heaths Railway Station\, Burntwood\, WS7 3PG
CATEGORIES:Ride-out
ATTACH;FMTTYPE=image/jpeg:https://derbyam.org.uk/wp-content/uploads/chasewater-heath-cafe.jpg
END:VEVENT
BEGIN:VEVENT
DTSTART;TZID=Europe/London:20261026T193000
DTEND;TZID=Europe/London:20261026T213000
DTSTAMP:20260420T113205
CREATED:20260130T135031Z
LAST-MODIFIED:20260130T135031Z
UID:4044-1793043000-1793050200@derbyam.org.uk
SUMMARY:Committee meeting (in person)
DESCRIPTION:
URL:https://derbyam.org.uk/event/committee-meeting-in-person-4/
LOCATION:Derbyshire
CATEGORIES:Committee
ATTACH;FMTTYPE=image/png:https://derbyam.org.uk/wp-content/uploads/DAM-Logo-1.png
END:VEVENT
END:VCALENDAR