BEGIN:VCALENDAR
VERSION:2.0
PRODID:-//Derbyshire Advanced Motorcyclists - ECPv6.15.18//NONSGML v1.0//EN
CALSCALE:GREGORIAN
METHOD:PUBLISH
X-ORIGINAL-URL:https://derbyam.org.uk
X-WR-CALDESC:Events for Derbyshire Advanced Motorcyclists
REFRESH-INTERVAL;VALUE=DURATION:PT1H
X-Robots-Tag:noindex
X-PUBLISHED-TTL:PT1H
BEGIN:VTIMEZONE
TZID:Europe/London
BEGIN:DAYLIGHT
TZOFFSETFROM:+0000
TZOFFSETTO:+0100
TZNAME:BST
DTSTART:20250330T010000
END:DAYLIGHT
BEGIN:STANDARD
TZOFFSETFROM:+0100
TZOFFSETTO:+0000
TZNAME:GMT
DTSTART:20251026T010000
END:STANDARD
BEGIN:DAYLIGHT
TZOFFSETFROM:+0000
TZOFFSETTO:+0100
TZNAME:BST
DTSTART:20260329T010000
END:DAYLIGHT
BEGIN:STANDARD
TZOFFSETFROM:+0100
TZOFFSETTO:+0000
TZNAME:GMT
DTSTART:20261025T010000
END:STANDARD
BEGIN:DAYLIGHT
TZOFFSETFROM:+0000
TZOFFSETTO:+0100
TZNAME:BST
DTSTART:20270328T010000
END:DAYLIGHT
BEGIN:STANDARD
TZOFFSETFROM:+0100
TZOFFSETTO:+0000
TZNAME:GMT
DTSTART:20271031T010000
END:STANDARD
END:VTIMEZONE
BEGIN:VEVENT
DTSTART;TZID=Europe/London:20260902T160000
DTEND;TZID=Europe/London:20260902T213000
DTSTAMP:20260420T095027
CREATED:20251210T102839Z
LAST-MODIFIED:20251210T102839Z
UID:3945-1788364800-1788384600@derbyam.org.uk
SUMMARY:Bike night at the Chequered Flag Café
DESCRIPTION:
URL:https://derbyam.org.uk/event/bike-night-at-the-chequered-flag-cafe-11/
LOCATION:Chequered Flag Cafe\, Darley Moor Sports Centre\, Ashbourne\, Derbyshire\, DE6 2ET\, United Kingdom
CATEGORIES:Third Party
ATTACH;FMTTYPE=image/jpeg:https://derbyam.org.uk/wp-content/uploads/474444901_925978949515255_8498283032427731710_n.jpg
END:VEVENT
BEGIN:VEVENT
DTSTART;TZID=Europe/London:20260912T093000
DTEND;TZID=Europe/London:20260912T133000
DTSTAMP:20260420T095027
CREATED:20260130T140431Z
LAST-MODIFIED:20260130T140431Z
UID:4060-1789205400-1789219800@derbyam.org.uk
SUMMARY:JFs mystery tour
DESCRIPTION:It’s a mystery – Details emails to the group membership. \nDue to the nature of the ride\, it is considered a social ride\, not an official IAM.
URL:https://derbyam.org.uk/event/jfs-mystery-tour-4/
LOCATION:Derbyshire
CATEGORIES:Mystery Tour,Ride-out
ATTACH;FMTTYPE=image/jpeg:https://derbyam.org.uk/wp-content/uploads/Magical-Mystery-Tour-Logo-1347x1122-1.jpg
END:VEVENT
BEGIN:VEVENT
DTSTART;TZID=Europe/London:20260916T160000
DTEND;TZID=Europe/London:20260916T203000
DTSTAMP:20260420T095027
CREATED:20251210T102927Z
LAST-MODIFIED:20251210T102927Z
UID:3947-1789574400-1789590600@derbyam.org.uk
SUMMARY:Bike night at the Chequered Flag Café
DESCRIPTION:
URL:https://derbyam.org.uk/event/bike-night-at-the-chequered-flag-cafe-12/
LOCATION:Chequered Flag Cafe\, Darley Moor Sports Centre\, Ashbourne\, Derbyshire\, DE6 2ET\, United Kingdom
CATEGORIES:Third Party
ATTACH;FMTTYPE=image/jpeg:https://derbyam.org.uk/wp-content/uploads/474444901_925978949515255_8498283032427731710_n.jpg
END:VEVENT
BEGIN:VEVENT
DTSTART;TZID=Europe/London:20260927T080000
DTEND;TZID=Europe/London:20260927T170000
DTSTAMP:20260420T095027
CREATED:20260130T140529Z
LAST-MODIFIED:20260130T140529Z
UID:4062-1790496000-1790528400@derbyam.org.uk
SUMMARY:All day ride to The Ship Inn\, Oundle - details to be confirmed
DESCRIPTION:
URL:https://derbyam.org.uk/event/all-day-ride-to-the-ship-inn-oundle-details-to-be-confirmed/
LOCATION:Derbyshire
CATEGORIES:Ride-out
END:VEVENT
BEGIN:VEVENT
DTSTART;TZID=Europe/London:20260928T193000
DTEND;TZID=Europe/London:20260928T213000
DTSTAMP:20260420T095027
CREATED:20260130T134949Z
LAST-MODIFIED:20260130T134949Z
UID:4042-1790623800-1790631000@derbyam.org.uk
SUMMARY:Committee meeting (Teams)
DESCRIPTION:
URL:https://derbyam.org.uk/event/committee-meeting-teams-5/
LOCATION:Derbyshire
CATEGORIES:Committee
ATTACH;FMTTYPE=image/png:https://derbyam.org.uk/wp-content/uploads/DAM-Logo-1.png
END:VEVENT
BEGIN:VEVENT
DTSTART;TZID=Europe/London:20260930T160000
DTEND;TZID=Europe/London:20260930T203000
DTSTAMP:20260420T095027
CREATED:20251210T103022Z
LAST-MODIFIED:20251210T103022Z
UID:3949-1790784000-1790800200@derbyam.org.uk
SUMMARY:Bike night at the Chequered Flag Café
DESCRIPTION:Final one of the year!
URL:https://derbyam.org.uk/event/bike-night-at-the-chequered-flag-cafe-13/
LOCATION:Chequered Flag Cafe\, Darley Moor Sports Centre\, Ashbourne\, Derbyshire\, DE6 2ET\, United Kingdom
CATEGORIES:Third Party
ATTACH;FMTTYPE=image/jpeg:https://derbyam.org.uk/wp-content/uploads/474444901_925978949515255_8498283032427731710_n.jpg
END:VEVENT
END:VCALENDAR