BEGIN:VCALENDAR
VERSION:2.0
PRODID:-//Derbyshire Advanced Motorcyclists - ECPv6.15.20//NONSGML v1.0//EN
CALSCALE:GREGORIAN
METHOD:PUBLISH
X-WR-CALNAME:Derbyshire Advanced Motorcyclists
X-ORIGINAL-URL:https://derbyam.org.uk
X-WR-CALDESC:Events for Derbyshire Advanced Motorcyclists
REFRESH-INTERVAL;VALUE=DURATION:PT1H
X-Robots-Tag:noindex
X-PUBLISHED-TTL:PT1H
BEGIN:VTIMEZONE
TZID:Europe/London
BEGIN:DAYLIGHT
TZOFFSETFROM:+0000
TZOFFSETTO:+0100
TZNAME:BST
DTSTART:20240331T010000
END:DAYLIGHT
BEGIN:STANDARD
TZOFFSETFROM:+0100
TZOFFSETTO:+0000
TZNAME:GMT
DTSTART:20241027T010000
END:STANDARD
BEGIN:DAYLIGHT
TZOFFSETFROM:+0000
TZOFFSETTO:+0100
TZNAME:BST
DTSTART:20250330T010000
END:DAYLIGHT
BEGIN:STANDARD
TZOFFSETFROM:+0100
TZOFFSETTO:+0000
TZNAME:GMT
DTSTART:20251026T010000
END:STANDARD
BEGIN:DAYLIGHT
TZOFFSETFROM:+0000
TZOFFSETTO:+0100
TZNAME:BST
DTSTART:20260329T010000
END:DAYLIGHT
BEGIN:STANDARD
TZOFFSETFROM:+0100
TZOFFSETTO:+0000
TZNAME:GMT
DTSTART:20261025T010000
END:STANDARD
END:VTIMEZONE
BEGIN:VEVENT
DTSTART;TZID=Europe/London:20250615T094500
DTEND;TZID=Europe/London:20250615T130000
DTSTAMP:20260425T004729
CREATED:20250609T072926Z
LAST-MODIFIED:20250609T072926Z
UID:3671-1749980700-1749992400@derbyam.org.uk
SUMMARY:Mystery Tour
DESCRIPTION:The 15th of June\, will see our Mystery Tour for the month. This is a short run that has been requested\, so please join us.\n\nOn this exciting adventure\, we will be stopping for drinks and food with Charles (maybe a clue).\n\nThe ride is open to all members. Associates should check with their lead observer. Pilians are welcome. As usual\, expect to use the drop-off system\, so please be familiar with this (the rules are found here)\n\nFurther details shared via email to our members
URL:https://derbyam.org.uk/event/mystery-tour/
CATEGORIES:Mystery Tour,Ride-out
ATTACH;FMTTYPE=image/jpeg:https://derbyam.org.uk/wp-content/uploads/Magical-Mystery-Tour-Logo-1347x1122-1.jpg
END:VEVENT
END:VCALENDAR