BEGIN:VCALENDAR
VERSION:2.0
PRODID:-//Derbyshire Advanced Motorcyclists - ECPv6.15.18//NONSGML v1.0//EN
CALSCALE:GREGORIAN
METHOD:PUBLISH
X-ORIGINAL-URL:https://derbyam.org.uk
X-WR-CALDESC:Events for Derbyshire Advanced Motorcyclists
REFRESH-INTERVAL;VALUE=DURATION:PT1H
X-Robots-Tag:noindex
X-PUBLISHED-TTL:PT1H
BEGIN:VTIMEZONE
TZID:Europe/London
BEGIN:DAYLIGHT
TZOFFSETFROM:+0000
TZOFFSETTO:+0100
TZNAME:BST
DTSTART:20250330T010000
END:DAYLIGHT
BEGIN:STANDARD
TZOFFSETFROM:+0100
TZOFFSETTO:+0000
TZNAME:GMT
DTSTART:20251026T010000
END:STANDARD
BEGIN:DAYLIGHT
TZOFFSETFROM:+0000
TZOFFSETTO:+0100
TZNAME:BST
DTSTART:20260329T010000
END:DAYLIGHT
BEGIN:STANDARD
TZOFFSETFROM:+0100
TZOFFSETTO:+0000
TZNAME:GMT
DTSTART:20261025T010000
END:STANDARD
BEGIN:DAYLIGHT
TZOFFSETFROM:+0000
TZOFFSETTO:+0100
TZNAME:BST
DTSTART:20270328T010000
END:DAYLIGHT
BEGIN:STANDARD
TZOFFSETFROM:+0100
TZOFFSETTO:+0000
TZNAME:GMT
DTSTART:20271031T010000
END:STANDARD
END:VTIMEZONE
BEGIN:VEVENT
DTSTART;TZID=Europe/London:20260314T093000
DTEND;TZID=Europe/London:20260314T140000
DTSTAMP:20260420T153401
CREATED:20260130T130401Z
LAST-MODIFIED:20260130T130401Z
UID:4001-1773480600-1773496800@derbyam.org.uk
SUMMARY:JF mystery tour
DESCRIPTION:It’s a mystery – Details emails to the group membership. \nDue to the nature of the ride\, it is considered a social ride\, not an official IAM.
URL:https://derbyam.org.uk/event/jf-mystery-tour/
CATEGORIES:Mystery Tour
ATTACH;FMTTYPE=image/jpeg:https://derbyam.org.uk/wp-content/uploads/Magical-Mystery-Tour-Logo-1347x1122-1.jpg
END:VEVENT
BEGIN:VEVENT
DTSTART;TZID=Europe/London:20260329T083000
DTEND;TZID=Europe/London:20260329T150000
DTSTAMP:20260420T153401
CREATED:20260130T130753Z
LAST-MODIFIED:20260310T195300Z
UID:4003-1774773000-1774796400@derbyam.org.uk
SUMMARY:Brunch at the Carding Shed
DESCRIPTION:An early start to get to The Carding Shed for brunch. Details will be emailed to the membership. \nThis ride is governed by IAM ride rules\, and the drop-off system will be used.
URL:https://derbyam.org.uk/event/brunch-at-the-carding-shed/
LOCATION:The Oil Can Cafe\, Dobroyd Mills\, Hepworth\, Holmfirth\, HD9 1AF\, United Kingdom
CATEGORIES:Ride-out
ATTACH;FMTTYPE=image/webp:https://derbyam.org.uk/wp-content/uploads/JS152232009.webp
END:VEVENT
END:VCALENDAR