BEGIN:VCALENDAR
VERSION:2.0
PRODID:-//Derbyshire Advanced Motorcyclists - ECPv6.15.18//NONSGML v1.0//EN
CALSCALE:GREGORIAN
METHOD:PUBLISH
X-WR-CALNAME:Derbyshire Advanced Motorcyclists
X-ORIGINAL-URL:https://derbyam.org.uk
X-WR-CALDESC:Events for Derbyshire Advanced Motorcyclists
REFRESH-INTERVAL;VALUE=DURATION:PT1H
X-Robots-Tag:noindex
X-PUBLISHED-TTL:PT1H
BEGIN:VTIMEZONE
TZID:Europe/London
BEGIN:DAYLIGHT
TZOFFSETFROM:+0000
TZOFFSETTO:+0100
TZNAME:BST
DTSTART:20240331T010000
END:DAYLIGHT
BEGIN:STANDARD
TZOFFSETFROM:+0100
TZOFFSETTO:+0000
TZNAME:GMT
DTSTART:20241027T010000
END:STANDARD
BEGIN:DAYLIGHT
TZOFFSETFROM:+0000
TZOFFSETTO:+0100
TZNAME:BST
DTSTART:20250330T010000
END:DAYLIGHT
BEGIN:STANDARD
TZOFFSETFROM:+0100
TZOFFSETTO:+0000
TZNAME:GMT
DTSTART:20251026T010000
END:STANDARD
BEGIN:DAYLIGHT
TZOFFSETFROM:+0000
TZOFFSETTO:+0100
TZNAME:BST
DTSTART:20260329T010000
END:DAYLIGHT
BEGIN:STANDARD
TZOFFSETFROM:+0100
TZOFFSETTO:+0000
TZNAME:GMT
DTSTART:20261025T010000
END:STANDARD
END:VTIMEZONE
BEGIN:VEVENT
DTSTART;TZID=Europe/London:20251206T100000
DTEND;TZID=Europe/London:20251206T123000
DTSTAMP:20260420T210440
CREATED:20251018T154310Z
LAST-MODIFIED:20251104T201959Z
UID:3889-1765015200-1765024200@derbyam.org.uk
SUMMARY:Christmas Toy Run with Safe & Sound
DESCRIPTION:
URL:https://derbyam.org.uk/event/christmas-toy-run-with-safe-and-sound/
LOCATION:PowerSlide Motorcycles\, Unit 3 Raynesway Park Drive\, Derby\, Derbyshire\, DE21 7BH
CATEGORIES:Christmas,Ride-out
ATTACH;FMTTYPE=image/png:https://derbyam.org.uk/wp-content/uploads/Toy-Run-Poster-conv-1-scaled.png
END:VEVENT
END:VCALENDAR