BEGIN:VCALENDAR
VERSION:2.0
PRODID:-//Derbyshire Advanced Motorcyclists - ECPv6.15.18//NONSGML v1.0//EN
CALSCALE:GREGORIAN
METHOD:PUBLISH
X-WR-CALNAME:Derbyshire Advanced Motorcyclists
X-ORIGINAL-URL:https://derbyam.org.uk
X-WR-CALDESC:Events for Derbyshire Advanced Motorcyclists
REFRESH-INTERVAL;VALUE=DURATION:PT1H
X-Robots-Tag:noindex
X-PUBLISHED-TTL:PT1H
BEGIN:VTIMEZONE
TZID:Europe/London
BEGIN:DAYLIGHT
TZOFFSETFROM:+0000
TZOFFSETTO:+0100
TZNAME:BST
DTSTART:20240331T010000
END:DAYLIGHT
BEGIN:STANDARD
TZOFFSETFROM:+0100
TZOFFSETTO:+0000
TZNAME:GMT
DTSTART:20241027T010000
END:STANDARD
BEGIN:DAYLIGHT
TZOFFSETFROM:+0000
TZOFFSETTO:+0100
TZNAME:BST
DTSTART:20250330T010000
END:DAYLIGHT
BEGIN:STANDARD
TZOFFSETFROM:+0100
TZOFFSETTO:+0000
TZNAME:GMT
DTSTART:20251026T010000
END:STANDARD
BEGIN:DAYLIGHT
TZOFFSETFROM:+0000
TZOFFSETTO:+0100
TZNAME:BST
DTSTART:20260329T010000
END:DAYLIGHT
BEGIN:STANDARD
TZOFFSETFROM:+0100
TZOFFSETTO:+0000
TZNAME:GMT
DTSTART:20261025T010000
END:STANDARD
END:VTIMEZONE
BEGIN:VEVENT
DTSTART;TZID=Europe/London:20251025T093000
DTEND;TZID=Europe/London:20251025T104500
DTSTAMP:20260421T004034
CREATED:20251013T141426Z
LAST-MODIFIED:20251018T154027Z
UID:3878-1761384600-1761389100@derbyam.org.uk
SUMMARY:Group ride to NMM Live
DESCRIPTION:Details email to the group membership. riding for approximately 1 hour 15 minutes to NMM Live for a 1045 arrival
URL:https://derbyam.org.uk/event/group-ride-to-nmm-live/
LOCATION:The National Motorcycle Museum\, Coventry Road\, Solihull\, West Midlands\, B92 0EJ\, United Kingdom
CATEGORIES:Ride-out,Third Party
ATTACH;FMTTYPE=image/webp:https://derbyam.org.uk/wp-content/uploads/portrait-labradoodle-dogs-gang-riding-hot-rod-steampunk-motorcycles-wearing-ponchos-desert-road-labradoodle-dogs-gang-riding-299187744.webp
END:VEVENT
END:VCALENDAR