BEGIN:VCALENDAR
VERSION:2.0
PRODID:-//Derbyshire Advanced Motorcyclists - ECPv6.15.18//NONSGML v1.0//EN
CALSCALE:GREGORIAN
METHOD:PUBLISH
X-WR-CALNAME:Derbyshire Advanced Motorcyclists
X-ORIGINAL-URL:https://derbyam.org.uk
X-WR-CALDESC:Events for Derbyshire Advanced Motorcyclists
REFRESH-INTERVAL;VALUE=DURATION:PT1H
X-Robots-Tag:noindex
X-PUBLISHED-TTL:PT1H
BEGIN:VTIMEZONE
TZID:Europe/London
BEGIN:DAYLIGHT
TZOFFSETFROM:+0000
TZOFFSETTO:+0100
TZNAME:BST
DTSTART:20240331T010000
END:DAYLIGHT
BEGIN:STANDARD
TZOFFSETFROM:+0100
TZOFFSETTO:+0000
TZNAME:GMT
DTSTART:20241027T010000
END:STANDARD
BEGIN:DAYLIGHT
TZOFFSETFROM:+0000
TZOFFSETTO:+0100
TZNAME:BST
DTSTART:20250330T010000
END:DAYLIGHT
BEGIN:STANDARD
TZOFFSETFROM:+0100
TZOFFSETTO:+0000
TZNAME:GMT
DTSTART:20251026T010000
END:STANDARD
BEGIN:DAYLIGHT
TZOFFSETFROM:+0000
TZOFFSETTO:+0100
TZNAME:BST
DTSTART:20260329T010000
END:DAYLIGHT
BEGIN:STANDARD
TZOFFSETFROM:+0100
TZOFFSETTO:+0000
TZNAME:GMT
DTSTART:20261025T010000
END:STANDARD
END:VTIMEZONE
BEGIN:VEVENT
DTSTART;TZID=Europe/London:20250913T093000
DTEND;TZID=Europe/London:20250913T133000
DTSTAMP:20260421T022910
CREATED:20250826T124248Z
LAST-MODIFIED:20250826T124248Z
UID:3759-1757755800-1757770200@derbyam.org.uk
SUMMARY:September mystery tour with JohnF
DESCRIPTION:Some challenging roads\, but still suitable for all. A route some will have done before\, but which one??? \nDetails to be emailed to the group membership. \nPlease note\, this may be moved to the 14th if Saturday’s weather looks atrocious.
URL:https://derbyam.org.uk/event/september-mystery-tour-with-johnf/
CATEGORIES:Ride-out
ATTACH;FMTTYPE=image/jpeg:https://derbyam.org.uk/wp-content/uploads/Magical-Mystery-Tour-Logo-1347x1122-1.jpg
END:VEVENT
BEGIN:VEVENT
DTSTART;TZID=Europe/London:20250928T103000
DTEND;TZID=Europe/London:20250928T140000
DTSTAMP:20260421T022910
CREATED:20250826T102411Z
LAST-MODIFIED:20250909T090534Z
UID:3757-1759055400-1759068000@derbyam.org.uk
SUMMARY:DAM Group ride with RW to Hales Hall
DESCRIPTION:A small route of around 75 miles and heading to the Grovensor Restaurant for lunch\, or at least that is the intention. These will be distributed to the group membership
URL:https://derbyam.org.uk/event/tbc-group-ride-with-rw/
CATEGORIES:Ride-out
ATTACH;FMTTYPE=image/jpeg:https://derbyam.org.uk/wp-content/uploads/Grosvenor-restaurant-exterior-Hales-Hall-moorlands-eater-01.jpg
END:VEVENT
END:VCALENDAR